Workbook

Sheet 000000

Sheet 集計表
A1: 第89回冬季学年別 テニス大会（集計表） ※エントリー締切 11/23必着
A3: 所属名
A4: 所属名(略称)
A5: 住所
A6: 責任者名
A7: 連絡先 | C7: Tel | G7: Ｆａｘ
A8: メールアドレス
A9: 入 金 方 法 | C9: 現金書留 ・ 現金持参 ・ 銀行振込（郵便局）
A10: 入金予定日 | C10: 令和7年 | E10: 月 | G10: 日
A11: 所属名（略称）は全角で4文字以内で入力して下さい
A12: 形式等の変更は行わないで下さい
A13: ※参加料は、高校生シングルス（１人）2,200円 ・ ダブルス（１組）2,200円です。
A14: 小中学生はコンソレーショントーナメント実施の為、（１人）2,500円 ・ ダブルス（１組）3,000円です。
A15: 学年種目 | C15: シングルス（人） | E15: ダブルス（組） | G15: 参加料 | I15: 参加料計（円）
G16: シングルス（人） | H16: ダブルス（組）
A17: 小学生男子 | C17: =小学生男!B40 -> 0 | E17: =小学生男!G40 -> 0 | G17: =C17*2500 -> 0 | H17: =E17*3000 -> 0 | I17: =G17+H17 -> 0
A19: 小学生女子 | C19: =小学生女!B40 -> 0 | E19: =小学生女!G40 -> 0 | G19: =C19*2500 -> 0 | H19: =E19*3000 -> 0 | I19: =G19+H19 -> 0
A21: 中学生男子 | C21: =中学生男!B40 -> 0 | E21: =中学生男!G40 -> 0 | G21: =C21*2500 -> 0 | H21: =E21*3000 -> 0 | I21: =G21+H21 -> 0
A23: 中学生女子 | C23: =中学生女!B40 -> 0 | E23: =中学生女!G40 -> 0 | G23: =C23*2500 -> 0 | H23: =E23*3000 -> 0 | I23: =G23+H23 -> 0
A25: 高校１年男子 | C25: =高校1男!B40 -> 0 | E25: =高校1男!G40 -> 0 | G25: =C25*2200 -> 0 | H25: =E25*2200 -> 0 | I25: =G25+H25 -> 0
A27: 高校1年女子 | C27: =高1女!B40 -> 0 | E27: =高1女!G40 -> 0 | G27: =C27*2200 -> 0 | H27: =E27*2200 -> 0 | I27: =G27+H27 -> 0
A29: 高校2.3年男子 | C29: ='高校2.3男'!B40 -> 0 | E29: ='高校2.3男'!G40 -> 0 | G29: =C29*2200 -> 0 | H29: =E29*2200 -> 0 | I29: =G29+H29 -> 0
A31: 高校2.3年女子 | C31: ='高校2.3女'!B40 -> 0 | E31: ='高校2.3女'!G40 -> 0 | G31: =C31*2200 -> 0 | H31: =E31*2200 -> 0 | I31: =G31+H31 -> 0
A33: 計 | C33: =SUM(C17:D32) -> 0 | E33: =SUM(E17:F32) -> 0 | G33: =SUM(G17:G32) -> 0 | H33: =SUM(H17:H32) -> 0 | I33: =SUM(I17:J32) -> 0
A36: ※参加数（人・組）・金額の確認後お申込下さい。
A37: 参加申込書・集計表に参加料を添えて申し込み致します。
H38: =I33 -> 0
A39: 令和 年 月 日
F41: クラブ記入欄（お客様の記入欄ではありません）
F42: 到着日 | G42: 年 月 日 / 記入者
F43: 入金方法 | G43: 現金書留・現金持参・銀行振込（郵便局）
F44: 入金日 | G44: 年 月 日 / 記入者

Sheet 小学生男
A1: =集計表!A1 -> 第89回冬季学年別 テニス大会（集計表） ※エントリー締切 11/23必着
A3: 所属名 | C3: =集計表!C3 -> 0
A4: 所属名(略称) | C4: =集計表!C4 -> 0
A5: 参加種目 | C5: 小学生 男子
A6: =小学生男!A6 -> ※参加種目ごとに分けて入力して下さい。 ※黄色の部分には、入力しないで下さい。
A7: シングルス | F7: ダブルス
A9: No | B9: 氏 名 | D9: 学年 | F9: No | G9: 氏 名 | I9: 学年
A10: 1 | F10: 1
A11: 2
A12: 3 | F12: 2
A13: 4
A14: 5 | F14: 3
A15: 6
A16: 7 | F16: 4
A17: 8
A18: 9 | F18: 5
A19: 10
A20: 11 | F20: 6
A21: 12
A22: 13 | F22: 7
A23: 14
A24: 15 | F24: 8
A25: 16
A26: 17 | F26: 9
A27: 18
A28: 19 | F28: 10
A29: 20
A30: 21 | F30: 11
A31: 22
A32: 23 | F32: 12
A33: 24
A34: 25 | F34: 13
A35: 26
A36: 27 | F36: 14
A37: 28
A38: 29 | F38: 15
A39: 30
A40: 合計 | B40: =COUNTA(B10:C39) -> 0 | D40: 人 | F40: 合計 | G40: =COUNTA(G10:H39)/2 -> 0 | I40: 組

Sheet 小学生女
A1: =小学生男!A1 -> 第89回冬季学年別 テニス大会（集計表） ※エントリー締切 11/23必着
A3: 所属名 | C3: =集計表!C3 -> 0
A4: 所属名(略称) | C4: =集計表!C4 -> 0
A5: 参加種目 | C5: 小学生 女子
A6: =小学生男!A6 -> ※参加種目ごとに分けて入力して下さい。 ※黄色の部分には、入力しないで下さい。
A7: シングルス | F7: ダブルス
A9: No | B9: 氏 名 | D9: 学年 | F9: No | G9: 氏 名 | I9: 学年
A10: 1 | F10: 1
A11: 2
A12: 3 | F12: 2
A13: 4
A14: 5 | F14: 3
A15: 6
A16: 7 | F16: 4
A17: 8
A18: 9 | F18: 5
A19: 10
A20: 11 | F20: 6
A21: 12
A22: 13 | F22: 7
A23: 14
A24: 15 | F24: 8
A25: 16
A26: 17 | F26: 9
A27: 18
A28: 19 | F28: 10
A29: 20
A30: 21 | F30: 11
A31: 22
A32: 23 | F32: 12
A33: 24
A34: 25 | F34: 13
A35: 26
A36: 27 | F36: 14
A37: 28
A38: 29 | F38: 15
A39: 30
A40: 合計 | B40: =COUNTA(B10:C39) -> 0 | D40: 人 | F40: 合計 | G40: =COUNTA(G10:H39)/2 -> 0 | I40: 組

Sheet 中学生男
A1: =小学生男!A1 -> 第89回冬季学年別 テニス大会（集計表） ※エントリー締切 11/23必着
A3: 所属名 | C3: =集計表!C3 -> 0
A4: 所属名(略称) | C4: =集計表!C4 -> 0
A5: 参加種目 | C5: 中学生 男子
A6: =小学生男!A6 -> ※参加種目ごとに分けて入力して下さい。 ※黄色の部分には、入力しないで下さい。
A7: シングルス | F7: ダブルス
A9: No | B9: 氏 名 | D9: 学年 | F9: No | G9: 氏 名 | I9: 学年
A10: 1 | F10: 1
A11: 2
A12: 3 | F12: 2
A13: 4
A14: 5 | F14: 3
A15: 6
A16: 7 | F16: 4
A17: 8
A18: 9 | F18: 5
A19: 10
A20: 11 | F20: 6
A21: 12
A22: 13 | F22: 7
A23: 14
A24: 15 | F24: 8
A25: 16
A26: 17 | F26: 9
A27: 18
A28: 19 | F28: 10
A29: 20
A30: 21 | F30: 11
A31: 22
A32: 23 | F32: 12
A33: 24
A34: 25 | F34: 13
A35: 26
A36: 27 | F36: 14
A37: 28
A38: 29 | F38: 15
A39: 30
A40: 合計 | B40: =COUNTA(B10:C39) -> 0 | D40: 人 | F40: 合計 | G40: =COUNTA(G10:H39)/2 -> 0 | I40: 組

Sheet 中学生女
A1: =小学生男!A1 -> 第89回冬季学年別 テニス大会（集計表） ※エントリー締切 11/23必着
A3: 所属名 | C3: =集計表!C3 -> 0
A4: 所属名(略称) | C4: =集計表!C4 -> 0
A5: 参加種目 | C5: 中学生 女子
A6: =小学生男!A6 -> ※参加種目ごとに分けて入力して下さい。 ※黄色の部分には、入力しないで下さい。
A7: シングルス | F7: ダブルス
A9: No | B9: 氏 名 | D9: 学年 | F9: No | G9: 氏 名 | I9: 学年
A10: 1 | F10: 1
A11: 2
A12: 3 | F12: 2
A13: 4
A14: 5 | F14: 3
A15: 6
A16: 7 | F16: 4
A17: 8
A18: 9 | F18: 5
A19: 10
A20: 11 | F20: 6
A21: 12
A22: 13 | F22: 7
A23: 14
A24: 15 | F24: 8
A25: 16
A26: 17 | F26: 9
A27: 18
A28: 19 | F28: 10
A29: 20
A30: 21 | F30: 11
A31: 22
A32: 23 | F32: 12
A33: 24
A34: 25 | F34: 13
A35: 26
A36: 27 | F36: 14
A37: 28
A38: 29 | F38: 15
A39: 30
A40: 合計 | B40: =COUNTA(B10:C39) -> 0 | D40: 人 | F40: 合計 | G40: =COUNTA(G10:H39)/2 -> 0 | I40: 組

Sheet 高校1男
A1: =小学生男!A1 -> 第89回冬季学年別 テニス大会（集計表） ※エントリー締切 11/23必着
A3: 所属名 | C3: =集計表!C3 -> 0
A4: 所属名(略称) | C4: =集計表!C4 -> 0
A5: 参加種目 | C5: 高校1年生 男子
A6: =小学生男!A6 -> ※参加種目ごとに分けて入力して下さい。 ※黄色の部分には、入力しないで下さい。
A7: シングルス | F7: ダブルス
A9: No | B9: 氏 名 | D9: 学年 | F9: No | G9: 氏 名 | I9: 学年
A10: 1 | F10: 1
A11: 2
A12: 3 | F12: 2
A13: 4
A14: 5 | F14: 3
A15: 6
A16: 7 | F16: 4
A17: 8
A18: 9 | F18: 5
A19: 10
A20: 11 | F20: 6
A21: 12
A22: 13 | F22: 7
A23: 14
A24: 15 | F24: 8
A25: 16
A26: 17 | F26: 9
A27: 18
A28: 19 | F28: 10
A29: 20
A30: 21 | F30: 11
A31: 22
A32: 23 | F32: 12
A33: 24
A34: 25 | F34: 13
A35: 26
A36: 27 | F36: 14
A37: 28
A38: 29 | F38: 15
A39: 30
A40: 合計 | B40: =COUNTA(B10:C39) -> 0 | D40: 人 | F40: 合計 | G40: =COUNTA(G10:H39)/2 -> 0 | I40: 組

Sheet 高1女
A1: =小学生男!A1 -> 第89回冬季学年別 テニス大会（集計表） ※エントリー締切 11/23必着
A3: 所属名 | C3: =集計表!C3 -> 0
A4: 所属名(略称) | C4: =集計表!C4 -> 0
A5: 参加種目 | C5: 高校1年生 女子
A6: =小学生男!A6 -> ※参加種目ごとに分けて入力して下さい。 ※黄色の部分には、入力しないで下さい。
A7: シングルス | F7: ダブルス
A9: No | B9: 氏 名 | D9: 学年 | F9: No | G9: 氏 名 | I9: 学年
A10: 1 | F10: 1
A11: 2
A12: 3 | F12: 2
A13: 4
A14: 5 | F14: 3
A15: 6
A16: 7 | F16: 4
A17: 8
A18: 9 | F18: 5
A19: 10
A20: 11 | F20: 6
A21: 12
A22: 13 | F22: 7
A23: 14
A24: 15 | F24: 8
A25: 16
A26: 17 | F26: 9
A27: 18
A28: 19 | F28: 10
A29: 20
A30: 21 | F30: 11
A31: 22
A32: 23 | F32: 12
A33: 24
A34: 25 | F34: 13
A35: 26
A36: 27 | F36: 14
A37: 28
A38: 29 | F38: 15
A39: 30
A40: 合計 | B40: =COUNTA(B10:C39) -> 0 | D40: 人 | F40: 合計 | G40: =COUNTA(G10:H39)/2 -> 0 | I40: 組

Sheet 高校2.3男
A1: =小学生男!A1 -> 第89回冬季学年別 テニス大会（集計表） ※エントリー締切 11/23必着
A3: 所属名 | C3: =集計表!C3 -> 0
A4: 所属名(略称) | C4: =集計表!C4 -> 0
A5: 参加種目 | C5: 高校2.3年生 男子
A6: =小学生男!A6 -> ※参加種目ごとに分けて入力して下さい。 ※黄色の部分には、入力しないで下さい。
A7: シングルス | F7: ダブルス
A9: No | B9: 氏 名 | D9: 学年 | F9: No | G9: 氏 名 | I9: 学年
A10: 1 | F10: 1
A11: 2
A12: 3 | F12: 2
A13: 4
A14: 5 | F14: 3
A15: 6
A16: 7 | F16: 4
A17: 8
A18: 9 | F18: 5
A19: 10
A20: 11 | F20: 6
A21: 12
A22: 13 | F22: 7
A23: 14
A24: 15 | F24: 8
A25: 16
A26: 17 | F26: 9
A27: 18
A28: 19 | F28: 10
A29: 20
A30: 21 | F30: 11
A31: 22
A32: 23 | F32: 12
A33: 24
A34: 25 | F34: 13
A35: 26
A36: 27 | F36: 14
A37: 28
A38: 29 | F38: 15
A39: 30
A40: 合計 | B40: =COUNTA(B10:C39) -> 0 | D40: 人 | F40: 合計 | G40: =COUNTA(G10:H39)/2 -> 0 | I40: 組

Sheet 高校2.3女
A1: =小学生男!A1 -> 第89回冬季学年別 テニス大会（集計表） ※エントリー締切 11/23必着
A3: 所属名 | C3: =集計表!C3 -> 0
A4: 所属名(略称) | C4: =集計表!C4 -> 0
A5: 参加種目 | C5: 高校2.3年生 女子
A6: =小学生男!A6 -> ※参加種目ごとに分けて入力して下さい。 ※黄色の部分には、入力しないで下さい。
A7: シングルス | F7: ダブルス
A9: No | B9: 氏 名 | D9: 学年 | F9: No | G9: 氏 名 | I9: 学年
A10: 1 | F10: 1
A11: 2
A12: 3 | F12: 2
A13: 4
A14: 5 | F14: 3
A15: 6
A16: 7 | F16: 4
A17: 8
A18: 9 | F18: 5
A19: 10
A20: 11 | F20: 6
A21: 12
A22: 13 | F22: 7
A23: 14
A24: 15 | F24: 8
A25: 16
A26: 17 | F26: 9
A27: 18
A28: 19 | F28: 10
A29: 20
A30: 21 | F30: 11
A31: 22
A32: 23 | F32: 12
A33: 24
A34: 25 | F34: 13
A35: 26
A36: 27 | F36: 14
A37: 28
A38: 29 | F38: 15
A39: 30
A40: 合計 | B40: =COUNTA(B10:C39) -> 0 | D40: 人 | F40: 合計 | G40: =COUNTA(G10:H39)/2 -> 0 | I40: 組
